BEGIN:VCALENDAR
VERSION:2.0
PRODID:-//The Home of the de Jongs - ECPv5.4.0//NONSGML v1.0//EN
CALSCALE:GREGORIAN
METHOD:PUBLISH
X-WR-CALNAME:The Home of the de Jongs
X-ORIGINAL-URL:https://www.dejongs.id.au
X-WR-CALDESC:Events for The Home of the de Jongs
BEGIN:VTIMEZONE
TZID:Australia/Melbourne
BEGIN:STANDARD
TZOFFSETFROM:+1100
TZOFFSETTO:+1000
TZNAME:AEST
DTSTART:20210403T160000
END:STANDARD
BEGIN:DAYLIGHT
TZOFFSETFROM:+1000
TZOFFSETTO:+1100
TZNAME:AEDT
DTSTART:20211002T160000
END:DAYLIGHT
END:VTIMEZONE
BEGIN:VEVENT
DTSTART;TZID=Australia/Melbourne:20210202T100000
DTEND;TZID=Australia/Melbourne:20210202T123000
DTSTAMP:20210228T085903
CREATED:20201218T235333Z
LAST-MODIFIED:20210122T071755Z
UID:3849-1612260000-1612269000@www.dejongs.id.au
SUMMARY:BUPA Chaplaincy
DESCRIPTION:
URL:https://www.dejongs.id.au/event/bupa-chaplaincy/2021-02-02/
LOCATION:BUPA Ballarat\, 305 Smythes Road\, Delacombe\, Vic\, 3356\, Australia
ORGANIZER;CN="Jim%20de%20Jong":MAILTO:jim@dejongs.id.au
END:VEVENT
BEGIN:VEVENT
DTSTART;TZID=Australia/Melbourne:20210203T103000
DTEND;TZID=Australia/Melbourne:20210203T123000
DTSTAMP:20210228T085903
CREATED:20201219T000757Z
LAST-MODIFIED:20201219T000757Z
UID:3877-1612348200-1612355400@www.dejongs.id.au
SUMMARY:Mercy Place Chaplaincy
DESCRIPTION:
URL:https://www.dejongs.id.au/event/mercy-place-chaplaincy/2021-02-03/
LOCATION:Mercy Place Ballarat\, ​60 Corbett Street\, Ballarat East\, VIC\, 3350\, Australia
ORGANIZER;CN="Jim%20de%20Jong":MAILTO:jim@dejongs.id.au
END:VEVENT
BEGIN:VEVENT
DTSTART;TZID=Australia/Melbourne:20210208T000000
DTEND;TZID=Australia/Melbourne:20210212T235959
DTSTAMP:20210228T085903
CREATED:20201207T020650Z
LAST-MODIFIED:20201207T033029Z
UID:3766-1612742400-1613174399@www.dejongs.id.au
SUMMARY:King Island
DESCRIPTION:
URL:https://www.dejongs.id.au/event/king-island/
LOCATION:Vic
END:VEVENT
BEGIN:VEVENT
DTSTART;TZID=Australia/Melbourne:20210209T100000
DTEND;TZID=Australia/Melbourne:20210209T123000
DTSTAMP:20210228T085903
CREATED:20201218T235333Z
LAST-MODIFIED:20210122T071755Z
UID:3850-1612864800-1612873800@www.dejongs.id.au
SUMMARY:BUPA Chaplaincy
DESCRIPTION:
URL:https://www.dejongs.id.au/event/bupa-chaplaincy/2021-02-09/
LOCATION:BUPA Ballarat\, 305 Smythes Road\, Delacombe\, Vic\, 3356\, Australia
ORGANIZER;CN="Jim%20de%20Jong":MAILTO:jim@dejongs.id.au
END:VEVENT
BEGIN:VEVENT
DTSTART;TZID=Australia/Melbourne:20210210T103000
DTEND;TZID=Australia/Melbourne:20210210T123000
DTSTAMP:20210228T085903
CREATED:20201219T000757Z
LAST-MODIFIED:20201219T000757Z
UID:3878-1612953000-1612960200@www.dejongs.id.au
SUMMARY:Mercy Place Chaplaincy
DESCRIPTION:
URL:https://www.dejongs.id.au/event/mercy-place-chaplaincy/2021-02-10/
LOCATION:Mercy Place Ballarat\, ​60 Corbett Street\, Ballarat East\, VIC\, 3350\, Australia
ORGANIZER;CN="Jim%20de%20Jong":MAILTO:jim@dejongs.id.au
END:VEVENT
BEGIN:VEVENT
DTSTART;TZID=Australia/Melbourne:20210211T133000
DTEND;TZID=Australia/Melbourne:20210211T153000
DTSTAMP:20210228T085903
CREATED:20190409T233007Z
LAST-MODIFIED:20191027T235010Z
UID:823-1613050200-1613057400@www.dejongs.id.au
SUMMARY:Chaplaincy Meeting
DESCRIPTION:All meetings are the 2nd Thursday of the month starting at 1:30pm.  Venue will be Wendouree UCA unless otherwise stated.
URL:https://www.dejongs.id.au/event/chaplaincy-meeting-2/2021-02-11/
LOCATION:Wendouree Uniting Church\, 1022 Grevillea Rd\, Wendouree\, Vic\, 3355
ATTACH;FMTTYPE=image/jpeg:https://www.dejongs.id.au/wp-content/uploads/2020/04/Doveburst-Ballarat-Chaplaincy-w-PWV-1.jpg
ORGANIZER;CN="Andrew%20Shearer%20Cox":MAILTO:andrew@ballaatchaplaincy.com.au
END:VEVENT
BEGIN:VEVENT
DTSTART;TZID=Australia/Melbourne:20210214T093000
DTEND;TZID=Australia/Melbourne:20210214T103000
DTSTAMP:20210228T085903
CREATED:20201231T084925Z
LAST-MODIFIED:20210105T043835Z
UID:3938-1613295000-1613298600@www.dejongs.id.au
SUMMARY:Cressy Uniting Church HC
DESCRIPTION:Time and place to be announced
URL:https://www.dejongs.id.au/event/colac-ottway/
LOCATION:Vic
ATTACH;FMTTYPE=image/jpeg:https://www.dejongs.id.au/wp-content/uploads/2020/06/Cressy-St-Andrews-exterior-.jpg
END:VEVENT
BEGIN:VEVENT
DTSTART;TZID=Australia/Melbourne:20210216T100000
DTEND;TZID=Australia/Melbourne:20210216T123000
DTSTAMP:20210228T085903
CREATED:20201218T235333Z
LAST-MODIFIED:20210122T071756Z
UID:3851-1613469600-1613478600@www.dejongs.id.au
SUMMARY:BUPA Chaplaincy
DESCRIPTION:
URL:https://www.dejongs.id.au/event/bupa-chaplaincy/2021-02-16/
LOCATION:BUPA Ballarat\, 305 Smythes Road\, Delacombe\, Vic\, 3356\, Australia
ORGANIZER;CN="Jim%20de%20Jong":MAILTO:jim@dejongs.id.au
END:VEVENT
BEGIN:VEVENT
DTSTART;TZID=Australia/Melbourne:20210217T103000
DTEND;TZID=Australia/Melbourne:20210217T123000
DTSTAMP:20210228T085903
CREATED:20201219T000757Z
LAST-MODIFIED:20201219T000757Z
UID:3879-1613557800-1613565000@www.dejongs.id.au
SUMMARY:Mercy Place Chaplaincy
DESCRIPTION:
URL:https://www.dejongs.id.au/event/mercy-place-chaplaincy/2021-02-17/
LOCATION:Mercy Place Ballarat\, ​60 Corbett Street\, Ballarat East\, VIC\, 3350\, Australia
ORGANIZER;CN="Jim%20de%20Jong":MAILTO:jim@dejongs.id.au
END:VEVENT
BEGIN:VEVENT
DTSTART;TZID=Australia/Melbourne:20210220T093000
DTEND;TZID=Australia/Melbourne:20210220T160000
DTSTAMP:20210228T085903
CREATED:20190409T234043Z
LAST-MODIFIED:20191021T031429Z
UID:902-1613813400-1613836800@www.dejongs.id.au
SUMMARY:Presbytery Meeting
DESCRIPTION:
URL:https://www.dejongs.id.au/event/presbytery-meeting/2021-02-20/
LOCATION:Vic
END:VEVENT
BEGIN:VEVENT
DTSTART;TZID=Australia/Melbourne:20210221T113000
DTEND;TZID=Australia/Melbourne:20210221T123000
DTSTAMP:20210228T085903
CREATED:20201231T084925Z
LAST-MODIFIED:20210105T043244Z
UID:3951-1613907000-1613910600@www.dejongs.id.au
SUMMARY:Warrion Uniting Church
DESCRIPTION:Time and place to be announced
URL:https://www.dejongs.id.au/event/colac-ottway-2021-02-21/
LOCATION:Vic
END:VEVENT
BEGIN:VEVENT
DTSTART;TZID=Australia/Melbourne:20210223T100000
DTEND;TZID=Australia/Melbourne:20210223T123000
DTSTAMP:20210228T085903
CREATED:20201218T235333Z
LAST-MODIFIED:20210122T071757Z
UID:3852-1614074400-1614083400@www.dejongs.id.au
SUMMARY:BUPA Chaplaincy
DESCRIPTION:
URL:https://www.dejongs.id.au/event/bupa-chaplaincy/2021-02-23/
LOCATION:BUPA Ballarat\, 305 Smythes Road\, Delacombe\, Vic\, 3356\, Australia
ORGANIZER;CN="Jim%20de%20Jong":MAILTO:jim@dejongs.id.au
END:VEVENT
BEGIN:VEVENT
DTSTART;TZID=Australia/Melbourne:20210224T103000
DTEND;TZID=Australia/Melbourne:20210224T123000
DTSTAMP:20210228T085903
CREATED:20201219T000757Z
LAST-MODIFIED:20210118T213502Z
UID:3880-1614162600-1614169800@www.dejongs.id.au
SUMMARY:Mercy Place Chaplaincy Service
DESCRIPTION:
URL:https://www.dejongs.id.au/event/mercy-place-chaplaincy-2021-02-24/
LOCATION:Mercy Place Ballarat\, ​60 Corbett Street\, Ballarat East\, VIC\, 3350\, Australia
ATTACH;FMTTYPE=image/jpeg:https://www.dejongs.id.au/wp-content/uploads/2019/11/cropped-AdobeStock_298001972-1-scaled.jpeg
ORGANIZER;CN="Jim%20de%20Jong":MAILTO:jim@dejongs.id.au
END:VEVENT
BEGIN:VEVENT
DTSTART;TZID=Australia/Melbourne:20210224T130000
DTEND;TZID=Australia/Melbourne:20210224T150000
DTSTAMP:20210228T085903
CREATED:20201216T172613Z
LAST-MODIFIED:20201216T173321Z
UID:3834-1614171600-1614178800@www.dejongs.id.au
SUMMARY:Ballarat Midweek Service
DESCRIPTION:
URL:https://www.dejongs.id.au/event/ballarat-midweek-service-2/2021-02-24/
LOCATION:Brown Hill Uniting Church\, 16 Thompson Street\, Brown Hill\, Vic\, 3350\, Australia
ORGANIZER;CN="Jim%20de%20Jong":MAILTO:jim@dejongs.id.au
END:VEVENT
END:VCALENDAR